Workbook

Sheet Kalkulationsblatt
A1: ="Kalkulation "&TEXT(Kalkulationsblatt!E23,"")&" "&TEXT(Kalkulationsblatt!C4,"")&"" -> Kalkulation
A2: ="für den Zeitraum von "&TEXT(Kalkulationsblatt!B21,"TT. MMMM JJJJ")&" bis zum "&TEXT(Kalkulationsblatt!E21,"TT. MMMM JJJJ")&"" -> für den Zeitraum von 00. Januar 1900 bis zum 00. Januar 1900
A3: (1) | B3: Leistungserbringer
B4: Name
B5: Straße
B6: PLZ / Ort
B7: Telefon
B8: Telefax
B9: E-Mail
B10: Ansprechpartner:in
A11: (2) | B11: Träger des Leistungserbringers
B12: Name
B13: Straße
B14: PLZ / Ort
B15: Telefon
B16: Telefax
B17: E-Mail
A18: (3) | B18: Rechtsform: | D18: (4) | E18: Dachverband:
A20: (5) | B20: Kalkulationszeitraum
D21: bis
A22: (6) | B22: Durchschnittl. verfügb. Jahresarbeitsstd. | D22: (7) | E22: Qualifikationsanforderung
B23: =IF('Berechnung verfügbare AZ'!D72="","",'Berechnung verfügbare AZ'!D72*'PK Zusammenfassung'!L9)
A24: (8) | B24: Auslastung: | D24: (9) | E24: Berechnungsstunden:
E25: =IF(B23="","",B23*B25)
A26: (10) | B26: durchschn. wöchentliche Arbeitszeit
E30: (11) | F30: (12)
B31: Kostenarten | E31: kalkulatorischer | F31: je Berechnungs-
E32: Aufwand in € | F32: stunden in €
B34: ="Personalaufwand "&TEXT(Kalkulationsblatt!E23,"")&"" -> Personalaufwand
A35: (13) | B35: ='PK Zusammenfassung'!C9 -> Betreuungskräfte | E35: ='PK Zusammenfassung'!J9 -> 0 | F35: =IF($E$25="","",ROUND(E35/$E$25,1))
A37: (14) | B37: Leitung | E37: ='PK Zusammenfassung'!J22 -> 0 | F37: =IF($E$25="","",ROUND(E37/$E$25,1))
A39: (15) | B39: Verwaltung | E39: ='PK Zusammenfassung'!J27 -> 0 | F39: =IF($E$25="","",ROUND(E39/$E$25,1))
A41: (16) | B41: Personalnebenkosten | F41: =IF($E$25="","",ROUND(E41/$E$25,1)) | H41: davon Berufsgenossenschaftsbeiträge (BGW) - nachrichtlich | I41: ='PK AG_Brutto'!P18
A43: (17) | B43: Summe Personalaufwand (14) bis (16) | E43: =SUM(E35:E42) -> 0 | F43: =IF(E25="","",ROUND(E43/$E$25,1))
B44: (14) bis (20)
B47: Kostenarten | E47: Kalkulatorischer | F47: je Berechnungs-
E48: Aufwand in € | F48: stunde in €
H49: Sachaufwand pauschal
B50: ="Sachaufwand "&TEXT(Kalkulationsblatt!E23,"")&"" -> Sachaufwand
A51: (18) | B51: Betriebsaufwendungen (inkl. Wartung) | F51: =IF($E$25="","",ROUND(E51/$E$25,1))
...

Sheet PK Zusammenfassung
C1: ="Kalkulation "&TEXT(Kalkulationsblatt!E23,"")&" "&TEXT(Kalkulationsblatt!C4,"")&" für den Zeitraum von "&TEXT(Kalkulationsblatt!B21,"TT. MMMM JJJJ")&" bis zum "&TEXT(Kalkulationsblatt!E21,"TT. MMMM JJJJ")&"" -> Kalkulation für den Zeitraum von 00. Januar 1900 bis zum 00. Januar 1900
C2: ="Prospektive Personalkostenkalkulation "&TEXT(Kalkulationsblatt!E23,"")&"" -> Prospektive Personalkostenkalkulation
C4: Wochenarbeitsstunden: | F4: =Kalkulationsblatt!B27 -> 0 | G4: tariflich
C6: Ausbildungsqualifikation/ Funktionsgruppe | F6: Vollzeit-kräfte/ Multi-plikator | G6: AG Bruttoentgelt je Vollzeitkraft pro Jahr | H6: alternativ AG Bruttoentgelt je Vollzeitkraft pro Jahr - pauschal | I6: AG Bruttoentgelt multipliziert mit VZK | J6: Summe Personalgruppen | K6: Anrechnung | L6: Summe
A9: (13) | C9: ="Betreuungskräfte "&TEXT(Kalkulationsblatt!E23,"")&"" -> Betreuungskräfte | J9: =IF(O9="Fehler","Fehler",SUM(I10:I19)) -> 0 | L9: =IF(SUM(K10:K19)=0,"",SUM(K10:K19)) | O9: =IF(COUNTBLANK(O10:O19)<9,"Fehler","")
C10: =IF('PK AN-Brutto'!C9=0,"",'PK AN-Brutto'!C9) | D10: =IF('PK AN-Brutto'!E9=0,"",'PK AN-Brutto'!E9) | E10: =IF('PK AN-Brutto'!F9=0,"",'PK AN-Brutto'!F9) | G10: ='PK AG_Brutto'!L6 | I10: =IF(AND(G10="",H10=0),"",IF(H10>0,F10*H10,F10*G10)) | K10: =IF(F10="","",F10) | O10: =IF(F10>0,IF(I10="","Bitte Personalkosten in den folgenden Tabellenblättern oder alternativ in Spalte H eintragen",""),IF(I10="","","Stellenanteil -VZK oder Multiplikator für die Personalkosten eintragen"))
C11: =IF('PK AN-Brutto'!C10=0,"",'PK AN-Brutto'!C10) | D11: =IF('PK AN-Brutto'!E10=0,"",'PK AN-Brutto'!E10) | E11: =IF('PK AN-Brutto'!F10=0,"",'PK AN-Brutto'!F10) | G11: ='PK AG_Brutto'!L7 | I11: =IF(AND(G11="",H11=0),"",IF(H11>0,F11*H11,F11*G11)) | K11: =IF(F11="","",F11) | O11: =IF(F11>0,IF(I11="","Bitte Personalkosten in den folgenden Tabellenblättern oder alternativ in Spalte H eintragen",""),IF(I11="","","Stellenanteil -VZK oder Multiplikator für die Personalkosten eintragen"))
C12: =IF('PK AN-Brutto'!C11=0,"",'PK AN-Brutto'!C11) | D12: =IF('PK AN-Brutto'!E11=0,"",'PK AN-Brutto'!E11) | E12: =IF('PK AN-Brutto'!F11=0,"",'PK AN-Brutto'!F11) | G12: ='PK AG_Brutto'!L8 | I12: =IF(AND(G12="",H12=0),"",IF(H12>0,F12*H12,F12*G12)) | K12: =IF(F12="","",F12) | O12: =IF(F12>0,IF(I12="","Bitte Personalkosten in den folgenden Tabellenblättern oder alternativ in Spalte H eintragen",""),IF(I12="","","Stellenanteil -VZK oder Multiplikator für die Personalkosten eintragen"))
C13: =IF('PK AN-Brutto'!C12=0,"",'PK AN-Brutto'!C12) | D13: =IF('PK AN-Brutto'!E12=0,"",'PK AN-Brutto'!E12) | E13: =IF('PK AN-Brutto'!F12=0,"",'PK AN-Brutto'!F12) | G13: ='PK AG_Brutto'!L9 | I13: =IF(AND(G13="",H13=0),"",IF(H13>0,F13*H13,F13*G13)) | K13: =IF(F13="","",F13) | O13: =IF(F13>0,IF(I13="","Bitte Personalkosten in den folgenden Tabellenblättern oder alternativ in Spalte H eintragen",""),IF(I13="","","Stellenanteil -VZK oder Multiplikator für die Personalkosten eintragen"))
C14: =IF('PK AN-Brutto'!C13=0,"",'PK AN-Brutto'!C13) | D14: =IF('PK AN-Brutto'!E13=0,"",'PK AN-Brutto'!E13) | E14: =IF('PK AN-Brutto'!F13=0,"",'PK AN-Brutto'!F13) | G14: ='PK AG_Brutto'!L10 | I14: =IF(AND(G14="",H14=0),"",IF(H14>0,F14*H14,F14*G14)) | K14: =IF(F14="","",F14) | O14: =IF(F14>0,IF(I14="","Bitte Personalkosten in den folgenden Tabellenblättern oder alternativ in Spalte H eintragen",""),IF(I14="","","Stellenanteil -VZK oder Multiplikator für die Personalkosten eintragen"))
C15: Auszubildende/ Studierende | D15: =IF('PK AN-Brutto'!E14=0,"",'PK AN-Brutto'!E14) | E15: =IF('PK AN-Brutto'!F14=0,"",'PK AN-Brutto'!F14) | G15: ='PK AG_Brutto'!L11 | I15: =IF(AND(G15="",H15=0),"",IF(H15>0,F15*H15,F15*G15)) | K15: =IF(F15="","",IF(F15=0,"",IF(N15="","",I15/N15))) | N15: =IF(SUM(F10:F14)=0,"",SUM(I10:I14)/SUM(F10:F14)) | O15: =IF(F15>0,IF(I15="","Bitte Personalkosten in den folgenden Tabellenblättern oder alternativ in Spalte H eintragen",""),IF(I15="","","Stellenanteil -VZK oder Multiplikator für die Personalkosten eintragen"))
C16: Praktikant:innen | D16: =IF('PK AN-Brutto'!E15=0,"",'PK AN-Brutto'!E15) | E16: =IF('PK AN-Brutto'!F15=0,"",'PK AN-Brutto'!F15) | G16: ='PK AG_Brutto'!L12 | I16: =IF(AND(G16="",H16=0),"",IF(H16>0,F16*H16,F16*G16)) | O16: =IF(F16>0,IF(I16="","Bitte Personalkosten in den folgenden Tabellenblättern oder alternativ in Spalte H eintragen",""),IF(I16="","","Stellenanteil -VZK oder Multiplikator für die Personalkosten eintragen"))
C17: MiniJob | D17: =IF('PK AN-Brutto'!E16=0,"",'PK AN-Brutto'!E16) | E17: =IF('PK AN-Brutto'!F16=0,"",'PK AN-Brutto'!F16) | G17: ='PK AG_Brutto'!L13 | I17: =IF(AND(G17="",H17=0),"",IF(H17>0,F17*H17,F17*G17)) | O17: =IF(F17>0,IF(I17="","Bitte Personalkosten in den folgenden Tabellenblättern oder alternativ in Spalte H eintragen",""),IF(I17="","","Stellenanteil -VZK oder Multiplikator für die Personalkosten eintragen"))
C18: Honorare | D18: =IF('PK AN-Brutto'!E17=0,"",'PK AN-Brutto'!E17) | E18: =IF('PK AN-Brutto'!F17=0,"",'PK AN-Brutto'!F17) | G18: ='PK AG_Brutto'!L14 | I18: =IF(AND(G18="",H18=0),"",IF(H18>0,F18*H18,F18*G18)) | N18: keine Berücksichtigung | O18: =IF(F18>0,IF(I18="","Bitte Personalkosten in den folgenden Tabellenblättern oder alternativ in Spalte H eintragen",""),IF(I18="","","Stellenanteil -VZK oder Multiplikator für die Personalkosten eintragen"))
C19: BFD/ FSJ | D19: =IF('PK AN-Brutto'!E18=0,"",'PK AN-Brutto'!E18) | E19: =IF('PK AN-Brutto'!F18=0,"",'PK AN-Brutto'!F18) | G19: ='PK AG_Brutto'!L15 | I19: =IF(AND(G19="",H19=0),"",IF(H19>0,F19*H19,F19*G19)) | O19: =IF(F19>0,IF(I19="","Bitte Personalkosten in den folgenden Tabellenblättern oder alternativ in Spalte H eintragen",""),IF(I19="","","Stellenanteil -VZK oder Multiplikator für die Personalkosten eintragen"))
A21: (14) | C21: Leitung
C22: Pauschale | J22: =IF(F22>0,(J$9+Kalkulationsblatt!E41)*F22,SUM(I23:I24)) -> 0 | L22: =IF(SUM(K23:K24)=0,"",SUM(K23:K24))
C23: =IF($F$22>0,"",IF('PK AN-Brutto'!C21=0,"",'PK AN-Brutto'!C21)) | D23: =IF($F$22>0,"",IF('PK AN-Brutto'!E21=0,"",'PK AN-Brutto'!E21)) | E23: =IF($F$22>0,"",IF('PK AN-Brutto'!F21=0,"",'PK AN-Brutto'!F21)) | G23: =IF($F$22>0,"",'PK AG_Brutto'!L18) | I23: =IF(AND(G23="",H23=0),"",IF(H23>0,F23*H23,F23*G23)) | O23: =IF(F23>0,IF(I23="","Bitte Personalkosten in den folgenden Tabellenblättern oder alternativ in Spalte H eintragen",""),IF(I23="","","Stellenanteil -VZK oder Multiplikator für die Personalkosten eintragen"))
C24: =IF($F$22>0,"",IF('PK AN-Brutto'!C22=0,"",'PK AN-Brutto'!C22)) | D24: =IF($F$22>0,"",IF('PK AN-Brutto'!E22=0,"",'PK AN-Brutto'!E22)) | E24: =IF($F$22>0,"",IF('PK AN-Brutto'!F22=0,"",'PK AN-Brutto'!F22)) | G24: =IF($F$22>0,"",'PK AG_Brutto'!L19) | I24: =IF(AND(G24="",H24=0),"",IF(H24>0,F24*H24,F24*G24)) | O24: =IF(F24>0,IF(I24="","Bitte Personalkosten in den folgenden Tabellenblättern oder alternativ in Spalte H eintragen",""),IF(I24="","","Stellenanteil -VZK oder Multiplikator für die Personalkosten eintragen"))
A26: (15) | C26: Verwaltung
C27: Pauschale | J27: =IF(F27>0,(J$9+Kalkulationsblatt!E41)*F27,SUM(I28:I32)) -> 0 | L27: =IF(SUM(K28:K32)=0,"",SUM(K28:K32))
C28: =IF($F$27>0,"",IF('PK AN-Brutto'!C25=0,"",'PK AN-Brutto'!C25)) | D28: =IF($F$27>0,"",IF('PK AN-Brutto'!E25=0,"",'PK AN-Brutto'!E25)) | E28: =IF($F$27>0,"",IF('PK AN-Brutto'!F25=0,"",'PK AN-Brutto'!F25)) | G28: =IF($F$27>0,"",IF('PK AG_Brutto'!L22="","",'PK AG_Brutto'!L22)) | I28: =IF(AND(G28="",H28=0),"",IF(H28>0,F28*H28,F28*G28)) | O28: =IF(F28>0,IF(I28="","Bitte Personalkosten in den folgenden Tabellenblättern oder alternativ in Spalte H eintragen",""),IF(I28="","","Stellenanteil -VZK oder Multiplikator für die Personalkosten eintragen"))
C29: =IF($F$27>0,"",IF('PK AN-Brutto'!C26=0,"",'PK AN-Brutto'!C26)) | D29: =IF($F$27>0,"",IF('PK AN-Brutto'!E26=0,"",'PK AN-Brutto'!E26)) | E29: =IF($F$27>0,"",IF('PK AN-Brutto'!F26=0,"",'PK AN-Brutto'!F26)) | G29: =IF($F$27>0,"",IF('PK AG_Brutto'!L23="","",'PK AG_Brutto'!L23)) | I29: =IF(AND(G29="",H29=0),"",IF(H29>0,F29*H29,F29*G29)) | O29: =IF(F29>0,IF(I29="","Bitte Personalkosten in den folgenden Tabellenblättern oder alternativ in Spalte H eintragen",""),IF(I29="","","Stellenanteil -VZK oder Multiplikator für die Personalkosten eintragen"))
C30: =IF($F$27>0,"",IF('PK AN-Brutto'!C27=0,"",'PK AN-Brutto'!C27)) | D30: =IF($F$27>0,"",IF('PK AN-Brutto'!E27=0,"",'PK AN-Brutto'!E27)) | E30: =IF($F$27>0,"",IF('PK AN-Brutto'!F27=0,"",'PK AN-Brutto'!F27)) | G30: =IF($F$27>0,"",IF('PK AG_Brutto'!L24="","",'PK AG_Brutto'!L24)) | I30: =IF(AND(G30="",H30=0),"",IF(H30>0,F30*H30,F30*G30)) | O30: =IF(F30>0,IF(I30="","Bitte Personalkosten in den folgenden Tabellenblättern oder alternativ in Spalte H eintragen",""),IF(I30="","","Stellenanteil -VZK oder Multiplikator für die Personalkosten eintragen"))
C31: =IF($F$27>0,"","MiniJob") -> MiniJob | G31: =IF($F$27>0,"",IF('PK AG_Brutto'!L27="","",'PK AG_Brutto'!L27)) | I31: =IF(AND(G31="",H31=0),"",IF(H31>0,F31*H31,F31*G31)) | O31: =IF(F31>0,IF(I31="","Bitte Personalkosten in den folgenden Tabellenblättern oder alternativ in Spalte H eintragen",""),IF(I31="","","Stellenanteil -VZK oder Multiplikator für die Personalkosten eintragen"))
C32: =IF($F$27>0,"","Honorare") -> Honorare | G32: =IF($F$27>0,"",IF('PK AG_Brutto'!L28="","",'PK AG_Brutto'!L28)) | I32: =IF(AND(G32="",H32=0),"",IF(H32>0,F32*H32,F32*G32)) | O32: =IF(F32>0,IF(I32="","Bitte Personalkosten in den folgenden Tabellenblättern oder alternativ in Spalte H eintragen",""),IF(I32="","","Stellenanteil -VZK oder Multiplikator für die Personalkosten eintragen"))
J35: =SUM(J9:J33) -> 0

Sheet Berechnung verfügbare AZ
B1: ="Kalkulation "&TEXT(Kalkulationsblatt!E23,"")&" "&TEXT(Kalkulationsblatt!C4,"")&" für den Zeitraum von "&TEXT(Kalkulationsblatt!B21,"TT. MMMM JJJJ")&" bis zum "&TEXT(Kalkulationsblatt!E21,"TT. MMMM JJJJ")&"" -> Kalkulation für den Zeitraum von 00. Januar 1900 bis zum 00. Januar 1900
A2: ="Nettojahresarbeitszeit "&TEXT(Kalkulationsblatt!E23,"")&"" -> Nettojahresarbeitszeit
B4: Eckwerte
B5: Kalenderwochen pro Jahr | C5: 52 | D5: Wochen
B6: Wochenstunden | C6: =IF(F5>0,F5,Kalkulationsblatt!B27) -> 0 | D6: Stunden
B7: Stunden pro Tag (5 Tage Woche) | C7: =C6/5 -> 0 | D7: Stunden
B8: Bruttoarbeitstage pro Jahr (5 Tage Woche) = Kalenderwochen*5 | C8: =C5*5 -> 260 | D8: Tage
B9: Bruttoarbeitsstunden pro Jahr (Bruttoarbeitstage*Stunden pro Tag) | C9: =C8*C7 -> 0 | D9: Stunden
B11: Summe der Vollzeitkräfte (VZK) | C11: ='PK Zusammenfassung'!L9
B12: Anzahl der Mitarbeitenden (Köpfe)
A14: Nettoarbeitszeit pro Jahr
B17: Abzüge pro VZK | C17: Stunden | D17: Tage | E17: Wochen
B18: Feiertage | C18: =D18*C7 -> 0 | E18: =D18/5 -> 0
B19: Urlaubstage | C19: =D19*C7 -> 0 | E19: =D19/5 -> 0
B20: Bildungsurlaub/ Bildungsfreistellung | C20: =D20*C7 -> 0 | E20: =D20/5 -> 0
B21: Krankheitstage | C21: =D21*C7 -> 0 | E21: =D21/5 -> 0
B22: insgesamt | C22: =SUM(C18:C21) -> 0 | D22: =IF(C7=0,"",IF(SUM(D18:D21)=0,(C9-G23)/C7,SUM(D17:D21))) | E22: =IF(D22="","",D22/5) | G22: 1584 | H22: KGSt bei 39 h/W
B23: Nettoarbeitszeit einer VZK pro Jahr | C23: =IF(D19=0,G23,C9-C22) -> 0 | D23: =IF(D22="","",C8-D22) | E23: =IF(E22="","",C5-E22) | G23: =ROUND(G22/39*C6,2) -> 0 | H23: ="bei "&TEXT(C6,"#0,00")&" Wochenstunden" -> bei 0,00 Wochenstunden
A25: indirekte Leistungen
C27: in Stunden
B28: fallübergreifende Leistungen | C28: pro Woche | D28: pro Jahr | E28: insg. pro Jahr
B29: Fortbildung | E29: =IF(Kalkulationsblatt!$B$27="","",C29*$E$23+D29)
B30: Team- und Dienstbesprechungen | E30: =IF(Kalkulationsblatt!$B$27="","",C30*$E$23+D30)
B31: Supervision | E31: =IF(Kalkulationsblatt!$B$27="","",C31*$E$23+D31)
B32: Netzwerkarbeit, Gremienarbeit, AG-Treffen | E32: =IF(Kalkulationsblatt!$B$27="","",C32*$E$23+D32)
B33: Personalversammlung/ Mitarbeitendenversammlung | E33: =IF(Kalkulationsblatt!$B$27="","",C33*$E$23+D33)
B34: Betriebsausflüge | E34: =IF(Kalkulationsblatt!$B$27="","",C34*$E$23+D34)
B35: Einarbeitungszeiten | E35: =IF(Kalkulationsblatt!$B$27="","",C35*$E$23+D35)
B36: Schulungen/ Unterweisungen (Arbeitssicherheit, Ersthilfe, Hygiene, Datenschutz etc.) | E36: =IF(Kalkulationsblatt!$B$27="","",C36*$E$23+D36)
B37: Teilnahme an Mitarbeitendengesprächen | E37: =IF(Kalkulationsblatt!$B$27="","",C37*$E$23+D37)
B38: Inanspruchnahme von fachlicher Beratung | E38: =IF(Kalkulationsblatt!$B$27="","",C38*$E$23+D38)
B39: Zuarbeit zur Verwaltung | E39: =IF(Kalkulationsblatt!$B$27="","",C39*$E$23+D39)
B40: Arbeitsplatzvorbereitung | E40: =IF(Kalkulationsblatt!$B$27="","",C40*$E$23+D40)
E41: =IF(Kalkulationsblatt!$B$27="","",C41*$E$23+D41)
B42: Summe fallübergreifende Leistungen | C42: =SUM(C29:C41) -> 0 | D42: =SUM(D29:D41) -> 0 | E42: =SUM(E29:E41) -> 0
B43: fallübergreifende Leistungen insg. pro Woche | C43: =IF(E23="","",E42/E23)
B45: Durchschn. fallübergreifende Leistungen pro VZK | C45: =IF(C43="","",ROUND(C43/IF(C12=0,1,(C11/C12)),2)) | D45: =E42/IF(C12=0,1,(C11/C12)) -> 0
C48: Vollzeitkraft | H48: Abrechenbare Stunden pro Woche
C49: in Stunden | F49: Über FLS abrechenbar?
B50: fallbezogene indirekte Leistungen | C50: pro Woche | D50: pro Jahr | E50: insg. pro Jahr
...

Sheet PK AN-Brutto
C1: ="Kalkulation "&TEXT(Kalkulationsblatt!E23,"")&" "&TEXT(Kalkulationsblatt!C4,"")&" für den Zeitraum von "&TEXT(Kalkulationsblatt!B21,"TT. MMMM JJJJ")&" bis zum "&TEXT(Kalkulationsblatt!E21,"TT. MMMM JJJJ")&"" -> Kalkulation für den Zeitraum von 00. Januar 1900 bis zum 00. Januar 1900
K2: In dieser Tabelle sind grundsätzlich die Werte für eine 100 % - Stelle bzw. eine Vollzeitkraft (VZK) einzugeben
K3: die Gewichtung erfolgt im Tabellenblatt PK Zusammenfassung
C5: Ausbildungsqualifikation/ Funktionsgruppe | D5: Tarifvertrag entspr. Abkürzung verwenden | E5: Entgelt-gruppe | F5: Entgelt-stufe | H5: Monatsentgelt nach aktueller Tabelle bzw. Vereinbarung | I5: Tarif für den Verein-barungs-zeitraum | J5: Monatsentgelt nach Fort-schreibung | K5: Zulagen gemäß Tarifvertrag | L5: Schichtzulage gemäß Tarifvertrag | M5: persönliche Zulagen | N5: Zeitzu-schläge (siehe extra Tabellen- blatt) | O5: Vermögens-wirksame Leistungen | P5: Monatsentgelt | Q5: Jahresentgelt (Monatsentgelt multipliziert mit 12) | S5: tarifliche Einmalzahlungen (13. Gehalt)/ Leistungsprämien | U5: Leistungsentgelt | W5: Arbeitnehmer-bruttoentgelt pro Jahr | X5: nachrichtlich Arbeitnehmer-bruttoentgelt pro Monat
O6: 6.65 | S6: Prozent-wert | T6: Betrag | U6: Prozent-wert | V6: Betrag
A8: (13) | C8: ="Assistenzkräfte "&TEXT(Kalkulationsblatt!E23,"")&"" -> Assistenzkräfte
I9: =IF(H9>0,ROUND(H9*$I$6,2),"") | J9: =IF(H9>0,H9+I9,"") | N9: =IF(J9="","",'PK Zeitzuschläge'!$M$38) | P9: =IF(SUM(J9:O9)=0,"",SUM(J9:O9)) | Q9: =IF(P9="","",ROUND(P9*12,2)) | T9: =IF(S9="","",ROUND(S9*P9,2)) | V9: =IF(U9>0,ROUND(Q9*U9,2),"") | W9: =IF(SUM(V9,T9,Q9)>0,SUM(V9,T9,Q9),"") | X9: =IF(W9="","",ROUND(W9/12,2))
I10: =IF(H10>0,ROUND(H10*$I$6,2),"") | J10: =IF(H10>0,H10+I10,"") | N10: =IF(J10="","",'PK Zeitzuschläge'!$M$38) | P10: =IF(SUM(J10:O10)=0,"",SUM(J10:O10)) | Q10: =IF(P10="","",ROUND(P10*12,2)) | T10: =IF(S10="","",ROUND(S10*P10,2)) | V10: =IF(U10>0,ROUND(Q10*U10,2),"") | W10: =IF(SUM(V10,T10,Q10)>0,SUM(V10,T10,Q10),"") | X10: =IF(W10="","",ROUND(W10/12,2))
I11: =IF(H11>0,ROUND(H11*$I$6,2),"") | J11: =IF(H11>0,H11+I11,"") | N11: =IF(J11="","",'PK Zeitzuschläge'!$M$38) | P11: =IF(SUM(J11:O11)=0,"",SUM(J11:O11)) | Q11: =IF(P11="","",ROUND(P11*12,2)) | T11: =IF(S11="","",ROUND(S11*P11,2)) | V11: =IF(U11>0,ROUND(Q11*U11,2),"") | W11: =IF(SUM(V11,T11,Q11)>0,SUM(V11,T11,Q11),"") | X11: =IF(W11="","",ROUND(W11/12,2))
I12: =IF(H12>0,ROUND(H12*$I$6,2),"") | J12: =IF(H12>0,H12+I12,"") | N12: =IF(J12="","",'PK Zeitzuschläge'!$M$38) | P12: =IF(SUM(J12:O12)=0,"",SUM(J12:O12)) | Q12: =IF(P12="","",ROUND(P12*12,2)) | T12: =IF(S12="","",ROUND(S12*P12,2)) | V12: =IF(U12>0,ROUND(Q12*U12,2),"") | W12: =IF(SUM(V12,T12,Q12)>0,SUM(V12,T12,Q12),"") | X12: =IF(W12="","",ROUND(W12/12,2))
I13: =IF(H13>0,ROUND(H13*$I$6,2),"") | J13: =IF(H13>0,H13+I13,"") | N13: =IF(J13="","",'PK Zeitzuschläge'!$M$38) | P13: =IF(SUM(J13:O13)=0,"",SUM(J13:O13)) | Q13: =IF(P13="","",ROUND(P13*12,2)) | T13: =IF(S13="","",ROUND(S13*P13,2)) | V13: =IF(U13>0,ROUND(Q13*U13,2),"") | W13: =IF(SUM(V13,T13,Q13)>0,SUM(V13,T13,Q13),"") | X13: =IF(W13="","",ROUND(W13/12,2))
C14: =IF('PK Zusammenfassung'!C15=0,"",'PK Zusammenfassung'!C15) -> Auszubildende/ Studierende | I14: =IF(H14>0,ROUND(H14*$I$6,2),"") | J14: =IF(H14>0,H14+I14,"") | P14: =IF(SUM(J14:O14)=0,"",SUM(J14:O14)) | Q14: =IF(P14="","",ROUND(P14*12,2)) | T14: =IF(S14="","",ROUND(S14*P14,2)) | V14: =IF(U14>0,ROUND(Q14*U14,2),"") | W14: =IF(SUM(V14,T14,Q14)>0,SUM(V14,T14,Q14),"") | X14: =IF(W14="","",ROUND(W14/12,2))
C15: =IF('PK Zusammenfassung'!C16=0,"",'PK Zusammenfassung'!C16) -> Praktikant:innen | I15: =IF(H15>0,ROUND(H15*$I$6,2),"") | J15: =IF(H15>0,H15+I15,"") | P15: =IF(SUM(J15:O15)=0,"",SUM(J15:O15)) | Q15: =IF(P15="","",ROUND(P15*12,2)) | T15: =IF(S15="","",ROUND(S15*P15,2)) | V15: =IF(U15>0,ROUND(Q15*U15,2),"") | W15: =IF(SUM(V15,T15,Q15)>0,SUM(V15,T15,Q15),"") | X15: =IF(W15="","",ROUND(W15/12,2))
C16: =IF('PK Zusammenfassung'!C17=0,"",'PK Zusammenfassung'!C17) -> MiniJob | J16: =IF(H16>0,H16+I16,"") | P16: =IF(SUM(J16:O16)=0,"",SUM(J16:O16)) | Q16: =IF(P16="","",ROUND(P16*12,2)) | W16: =IF(SUM(V16,T16,Q16)>0,SUM(V16,T16,Q16),"") | X16: =IF(W16="","",ROUND(W16/12,2))
C17: =IF('PK Zusammenfassung'!C18=0,"",'PK Zusammenfassung'!C18) -> Honorare | J17: =IF(H17>0,H17+I17,"") | P17: =IF(SUM(J17:O17)=0,"",SUM(J17:O17)) | Q17: =IF(P17="","",ROUND(P17*12,2)) | W17: =IF(SUM(V17,T17,Q17)>0,SUM(V17,T17,Q17),"") | X17: =IF(W17="","",ROUND(W17/12,2))
C18: =IF('PK Zusammenfassung'!C19=0,"",'PK Zusammenfassung'!C19) -> BFD/ FSJ | J18: =IF(H18>0,H18+I18,"") | P18: =IF(SUM(J18:O18)=0,"",SUM(J18:O18)) | Q18: =IF(P18="","",ROUND(P18*12,2)) | W18: =IF(SUM(V18,T18,Q18)>0,SUM(V18,T18,Q18),"") | X18: =IF(W18="","",ROUND(W18/12,2))
A20: (14) | C20: Leitung
I21: =IF(H21>0,ROUND(H21*$I$6,2),"") | J21: =IF(H21>0,H21+I21,"") | P21: =IF(SUM(J21:O21)=0,"",SUM(J21:O21)) | Q21: =IF(P21="","",ROUND(P21*12,2)) | T21: =IF(S21="","",ROUND(S21*P21,2)) | V21: =IF(U21>0,ROUND(Q21*U21,2),"") | W21: =IF(SUM(V21,T21,Q21)>0,SUM(V21,T21,Q21),"") | X21: =IF(W21="","",ROUND(W21/12,2))
I22: =IF(H22>0,ROUND(H22*$I$6,2),"") | J22: =IF(H22>0,H22+I22,"") | P22: =IF(SUM(J22:O22)=0,"",SUM(J22:O22)) | Q22: =IF(P22="","",ROUND(P22*12,2)) | T22: =IF(S22="","",ROUND(S22*P22,2)) | V22: =IF(U22>0,ROUND(Q22*U22,2),"") | W22: =IF(SUM(V22,T22,Q22)>0,SUM(V22,T22,Q22),"") | X22: =IF(W22="","",ROUND(W22/12,2))
A24: (15) | C24: Verwaltung
I25: =IF(H25>0,ROUND(H25*$I$6,2),"") | J25: =IF(H25>0,H25+I25,"") | P25: =IF(SUM(J25:O25)=0,"",SUM(J25:O25)) | Q25: =IF(P25="","",ROUND(P25*12,2)) | T25: =IF(S25="","",ROUND(S25*P25,2)) | V25: =IF(U25>0,ROUND(Q25*U25,2),"") | W25: =IF(SUM(V25,T25,Q25)>0,SUM(V25,T25,Q25),"") | X25: =IF(W25="","",ROUND(W25/12,2))
I26: =IF(H26>0,ROUND(H26*$I$6,2),"") | J26: =IF(H26>0,H26+I26,"") | P26: =IF(SUM(J26:O26)=0,"",SUM(J26:O26)) | Q26: =IF(P26="","",ROUND(P26*12,2)) | T26: =IF(S26="","",ROUND(S26*P26,2)) | V26: =IF(U26>0,ROUND(Q26*U26,2),"") | W26: =IF(SUM(V26,T26,Q26)>0,SUM(V26,T26,Q26),"") | X26: =IF(W26="","",ROUND(W26/12,2))
I27: =IF(H27>0,ROUND(H27*$I$6,2),"") | J27: =IF(H27>0,H27+I27,"") | P27: =IF(SUM(J27:O27)=0,"",SUM(J27:O27)) | Q27: =IF(P27="","",ROUND(P27*12,2)) | T27: =IF(S27="","",ROUND(S27*P27,2)) | V27: =IF(U27>0,ROUND(Q27*U27,2),"") | W27: =IF(SUM(V27,T27,Q27)>0,SUM(V27,T27,Q27),"") | X27: =IF(W27="","",ROUND(W27/12,2))
C28: =IF('PK Zusammenfassung'!C31=0,"",'PK Zusammenfassung'!C31) -> MiniJob | J28: =IF(H28>0,H28+I28,"") | P28: =IF(SUM(J28:O28)=0,"",SUM(J28:O28)) | Q28: =IF(P28="","",ROUND(P28*12,2)) | W28: =IF(SUM(V28,T28,Q28)>0,SUM(V28,T28,Q28),"") | X28: =IF(W28="","",ROUND(W28/12,2))
C29: =IF('PK Zusammenfassung'!C32=0,"",'PK Zusammenfassung'!C32) -> Honorare | J29: =IF(H29>0,H29+I29,"") | P29: =IF(SUM(J29:O29)=0,"",SUM(J29:O29)) | Q29: =IF(P29="","",ROUND(P29*12,2)) | W29: =IF(SUM(V29,T29,Q29)>0,SUM(V29,T29,Q29),"") | X29: =IF(W29="","",ROUND(W29/12,2))

Sheet PK Zeitzuschläge
B1: ="Kalkulation "&TEXT(Kalkulationsblatt!E23,"")&" "&TEXT(Kalkulationsblatt!C4,"")&" für den Zeitraum von "&TEXT(Kalkulationsblatt!B21,"TT. MMMM JJJJ")&" bis zum "&TEXT(Kalkulationsblatt!E21,"TT. MMMM JJJJ")&"" -> Kalkulation für den Zeitraum von 00. Januar 1900 bis zum 00. Januar 1900
B3: Stundenlohnzuschläge: | C3: Inanspruchnahme | F3: Stunden | G3: pro Stunde | I3: Tage im Jahr | J3: Stunden im Jahr | K3: Betrag | L3: Anzahl MA | M3: Summe
C4: von | D4: bis | G4: in Euro | H4: in Prozent
E5: =IF(OR(C5="",D5=""),"",IF(D5>C5,D5-C5,1+D5-C5)) | F5: =IF(E5="","",E5*24) | J5: =IF(I5>0,F5*I5,"") | K5: =IF(J5="","",IF(AND(G5>0,H5>0),"FEHLER",IF(G5>0,G5*J5,$H$35*H5*J5))) | M5: =IF(K5="","",K5*L5) | N5: =IF(K5="","",IF(K5="FEHLER","Sie dürfen in den Spalten G und H entweder nur einen Eurobetrag oder einen Prozentwert pro Zeile angeben",""))
E6: =IF(OR(C6="",D6=""),"",IF(D6>C6,D6-C6,1+D6-C6)) | F6: =IF(E6="","",E6*24) | J6: =IF(I6>0,F6*I6,"") | K6: =IF(J6="","",IF(AND(G6>0,H6>0),"FEHLER",IF(G6>0,G6*J6,$H$35*H6*J6))) | M6: =IF(K6="","",K6*L6) | N6: =IF(K6="","",IF(K6="FEHLER","Sie dürfen in den Spalten G und H entweder nur einen Eurobetrag oder einen Prozentwert pro Zeile angeben",""))
E7: =IF(OR(C7="",D7=""),"",IF(D7>C7,D7-C7,1+D7-C7)) | F7: =IF(E7="","",E7*24) | J7: =IF(I7>0,F7*I7,"") | K7: =IF(J7="","",IF(AND(G7>0,H7>0),"FEHLER",IF(G7>0,G7*J7,$H$35*H7*J7))) | M7: =IF(K7="","",K7*L7) | N7: =IF(K7="","",IF(K7="FEHLER","Sie dürfen in den Spalten G und H entweder nur einen Eurobetrag oder einen Prozentwert pro Zeile angeben",""))
E8: =IF(OR(C8="",D8=""),"",IF(D8>C8,D8-C8,1+D8-C8)) | F8: =IF(E8="","",E8*24) | J8: =IF(I8>0,F8*I8,"") | K8: =IF(J8="","",IF(AND(G8>0,H8>0),"FEHLER",IF(G8>0,G8*J8,$H$35*H8*J8))) | M8: =IF(K8="","",K8*L8) | N8: =IF(K8="","",IF(K8="FEHLER","Sie dürfen in den Spalten G und H entweder nur einen Eurobetrag oder einen Prozentwert pro Zeile angeben",""))
E9: =IF(OR(C9="",D9=""),"",IF(D9>C9,D9-C9,1+D9-C9)) | F9: =IF(E9="","",E9*24) | J9: =IF(I9>0,F9*I9,"") | K9: =IF(J9="","",IF(AND(G9>0,H9>0),"FEHLER",IF(G9>0,G9*J9,$H$35*H9*J9))) | M9: =IF(K9="","",K9*L9) | N9: =IF(K9="","",IF(K9="FEHLER","Sie dürfen in den Spalten G und H entweder nur einen Eurobetrag oder einen Prozentwert pro Zeile angeben",""))
E10: =IF(OR(C10="",D10=""),"",IF(D10>C10,D10-C10,1+D10-C10)) | F10: =IF(E10="","",E10*24) | J10: =IF(I10>0,F10*I10,"") | K10: =IF(J10="","",IF(AND(G10>0,H10>0),"FEHLER",IF(G10>0,G10*J10,$H$35*H10*J10))) | M10: =IF(K10="","",K10*L10) | N10: =IF(K10="","",IF(K10="FEHLER","Sie dürfen in den Spalten G und H entweder nur einen Eurobetrag oder einen Prozentwert pro Zeile angeben",""))
E11: =IF(OR(C11="",D11=""),"",IF(D11>C11,D11-C11,1+D11-C11)) | F11: =IF(E11="","",E11*24) | J11: =IF(I11>0,F11*I11,"") | K11: =IF(J11="","",IF(AND(G11>0,H11>0),"FEHLER",IF(G11>0,G11*J11,$H$35*H11*J11))) | M11: =IF(K11="","",K11*L11) | N11: =IF(K11="","",IF(K11="FEHLER","Sie dürfen in den Spalten G und H entweder nur einen Eurobetrag oder einen Prozentwert pro Zeile angeben",""))
E12: =IF(OR(C12="",D12=""),"",IF(D12>C12,D12-C12,1+D12-C12)) | F12: =IF(E12="","",E12*24) | J12: =IF(I12>0,F12*I12,"") | K12: =IF(J12="","",IF(AND(G12>0,H12>0),"FEHLER",IF(G12>0,G12*J12,$H$35*H12*J12))) | M12: =IF(K12="","",K12*L12) | N12: =IF(K12="","",IF(K12="FEHLER","Sie dürfen in den Spalten G und H entweder nur einen Eurobetrag oder einen Prozentwert pro Zeile angeben",""))
E13: =IF(OR(C13="",D13=""),"",IF(D13>C13,D13-C13,1+D13-C13)) | F13: =IF(E13="","",E13*24) | J13: =IF(I13>0,F13*I13,"") | K13: =IF(J13="","",IF(AND(G13>0,H13>0),"FEHLER",IF(G13>0,G13*J13,$H$35*H13*J13))) | M13: =IF(K13="","",K13*L13) | N13: =IF(K13="","",IF(K13="FEHLER","Sie dürfen in den Spalten G und H entweder nur einen Eurobetrag oder einen Prozentwert pro Zeile angeben",""))
E14: =IF(OR(C14="",D14=""),"",IF(D14>C14,D14-C14,1+D14-C14)) | F14: =IF(E14="","",E14*24) | J14: =IF(I14>0,F14*I14,"") | K14: =IF(J14="","",IF(AND(G14>0,H14>0),"FEHLER",IF(G14>0,G14*J14,$H$35*H14*J14))) | M14: =IF(K14="","",K14*L14) | N14: =IF(K14="","",IF(K14="FEHLER","Sie dürfen in den Spalten G und H entweder nur einen Eurobetrag oder einen Prozentwert pro Zeile angeben",""))
E15: =IF(OR(C15="",D15=""),"",IF(D15>C15,D15-C15,1+D15-C15)) | F15: =IF(E15="","",E15*24) | J15: =IF(I15>0,F15*I15,"") | K15: =IF(J15="","",IF(AND(G15>0,H15>0),"FEHLER",IF(G15>0,G15*J15,$H$35*H15*J15))) | M15: =IF(K15="","",K15*L15) | N15: =IF(K15="","",IF(K15="FEHLER","Sie dürfen in den Spalten G und H entweder nur einen Eurobetrag oder einen Prozentwert pro Zeile angeben",""))
E16: =IF(OR(C16="",D16=""),"",IF(D16>C16,D16-C16,1+D16-C16)) | F16: =IF(E16="","",E16*24) | J16: =IF(I16>0,F16*I16,"") | K16: =IF(J16="","",IF(AND(G16>0,H16>0),"FEHLER",IF(G16>0,G16*J16,$H$35*H16*J16))) | M16: =IF(K16="","",K16*L16) | N16: =IF(K16="","",IF(K16="FEHLER","Sie dürfen in den Spalten G und H entweder nur einen Eurobetrag oder einen Prozentwert pro Zeile angeben",""))
... E23: =IF(OR(C23="",D23=""),"",IF(D23>C23,D23-C23,1+D23-C23)) | F23: =IF(E23="","",E23*24) | J23: =IF(I23>0,F23*I23,"") | K23: =IF(J23="","",IF(AND(G23>0,H23>0),"FEHLER",IF(G23>0,G23*J23,$H$35*H23*J23))) | M23: =IF(K23="","",K23*L23) | N23: =IF(K23="","",IF(K23="FEHLER","Sie dürfen in den Spalten G und H entweder nur einen Eurobetrag oder einen Prozentwert pro Zeile angeben",""))
J24: =SUM(J5:J23) -> 0 | M24: =SUM(M5:M23) -> 0
B25: =IF(J24>0,IF(J24<4800,"Haben Sie alle zuschlagsplfichtigen Zeiten berücksichtigt?! - siehe auch Anwenderhandbuch Seite 16",IF(J24>5200,"Bitte die zuschlagspflichtigen Zeiten überprüfen - sie sind möglicherweise zu hoch - siehe auch Anwenderhandbuch Seite 16",""))) -> FALSE
A27: (13) | B27: ="Assistenzkräfte "&TEXT(Kalkulationsblatt!E23,"")&"" -> Assistenzkräfte
C28: Tabellen-werte | D28: Wochen-arbeits-stunden | F28: Wochen-äquivalent | G28: Stunden-werte | H28: Gewichtung Zahl der Mitarbeitenden
B30: =IF('PK Zusammenfassung'!C10>0,'PK Zusammenfassung'!C10,"") | D30: =IF(C30="","",'PK Zusammenfassung'!$F$4) | F30: =IF(C30="","",4.348) | G30: =IF(C30="","",ROUND(C30/(D30*F30),2)) | H30: =IF(G30="","",ROUND(('PK Zusammenfassung'!F10*'PK Zeitzuschläge'!G30),2)) | K30: Summe Zuschläge: | M30: =M24 -> 0
B31: =IF('PK Zusammenfassung'!C11>0,'PK Zusammenfassung'!C11,"") | D31: =IF(C31="","",'PK Zusammenfassung'!$F$4) | F31: =IF(C31="","",4.348) | G31: =IF(C31="","",ROUND(C31/(D31*F31),2)) | H31: =IF(G31="","",ROUND(('PK Zusammenfassung'!F11*'PK Zeitzuschläge'!G31),2)) | K31: dividiert VZK | M31: =H37 -> 0
B32: =IF('PK Zusammenfassung'!C12>0,'PK Zusammenfassung'!C12,"") | D32: =IF(C32="","",'PK Zusammenfassung'!$F$4) | F32: =IF(C32="","",4.348) | G32: =IF(C32="","",ROUND(C32/(D32*F32),2)) | H32: =IF(G32="","",ROUND(('PK Zusammenfassung'!F12*'PK Zeitzuschläge'!G32),2)) | K32: dividiert Monate | M32: 12
B33: =IF('PK Zusammenfassung'!C13>0,'PK Zusammenfassung'!C13,"") | D33: =IF(C33="","",'PK Zusammenfassung'!$F$4) | F33: =IF(C33="","",4.348) | G33: =IF(C33="","",ROUND(C33/(D33*F33),2)) | H33: =IF(G33="","",ROUND(('PK Zusammenfassung'!F13*'PK Zeitzuschläge'!G33),2))
B34: =IF('PK Zusammenfassung'!C14>0,'PK Zusammenfassung'!C14,"") | D34: =IF(C34="","",'PK Zusammenfassung'!$F$4) | F34: =IF(C34="","",4.348) | G34: =IF(C34="","",ROUND(C34/(D34*F34),2)) | H34: =IF(G34="","",ROUND(('PK Zusammenfassung'!F14*'PK Zeitzuschläge'!G34),2)) | K34: Durchschn. Zuschlag | M34: =IF(M31=0,"",ROUND(M30/M31/M32,2))
F35: gewichteter Durchschnitt | H35: =IF(H37=0,"",ROUND(SUM(H30:H34)/H37,2)) | K35: zuzüglich aufschlags-
K36: berechtigte Tage | M36: =H51
F37: Mitarbeitende Vollzeitkräfte | H37: =SUM('PK Zusammenfassung'!F10:F14) -> 0
K38: Monatswert je Mitarbeitenden | M38: =SUM(M34:M36) -> 0
B41: Die Höhe der Entgeltfortzahlung im Krankheitsfall und bei Beurlaubung bestimmen sich nach dem "Lohnausfallprinzip". Arbeitnehmer:innen sind so zu vergüten, als hätten sie gearbeitet. Damit besteht auch ein Rechtsanspruch auf die Sonntags-, Feiertags- und Nachtzuschläge (SFN-Zuschläge), wenn in der Vergangenheit solche Arbeit geleistet wurde.
B46: Berechnung:
C49: Tage | D49: Zulage | F49: Tage pro Monat | G49: Tageswert | H49: Summe
B50: Aufschlagsberechtigte Tage | C50: ='Berechnung verfügbare AZ'!D22 | D50: =$M$34 | F50: 30.416667 | G50: =IF(D50="","",D50/F50) | H50: =IF(G50="","",ROUND(C50*G50,2))
B51: Monatswert pro Mitarbeitenden | H51: =IF(H50="","",ROUND(H50/12,2))

Sheet PK AG_Brutto
C1: ="Kalkulation "&TEXT(Kalkulationsblatt!E23,"")&" "&TEXT(Kalkulationsblatt!C4,"")&" für den Zeitraum von "&TEXT(Kalkulationsblatt!B21,"TT. MMMM JJJJ")&" bis zum "&TEXT(Kalkulationsblatt!E21,"TT. MMMM JJJJ")&"" -> Kalkulation für den Zeitraum von 00. Januar 1900 bis zum 00. Januar 1900
C2: Ausbildungsqualifikation/ Funktionsgruppe | D2: Arbeitnehmer-bruttoentgelt pro Jahr | E2: MiniJob Pauschale | F2: Sozial-versicherungs-beiträge und Umlagen | G2: Zusatzversorgung inkl. Sanierungsgeld und Sozialversicherung und Pauschalsteuer | I2: oder Sonstige Beiträge zur zusätzlichen Altersversorgung | L2: Arbeitgeber Bruttoentgelt pro Jahr
E3: 0.3 | F3: =O14 -> 0 | G3: Prozent | H3: Betrag | I3: Prozent | J3: Betrag | K3: individueller Jahresbetrag
A5: (13) | C5: ="Assistenzkräfte "&TEXT(Kalkulationsblatt!E23,"")&"" -> Assistenzkräfte
C6: =IF('PK Zusammenfassung'!C10=0,"",'PK Zusammenfassung'!C10) | D6: ='PK AN-Brutto'!W9 | F6: =IF(D6="","",ROUND(($D6-'PK AN-Brutto'!N9)*F$3,2)) | G6: =IF(D6="","",IF($O$23=0,"",('PK AN-Brutto'!X9*'PK AG_Brutto'!$O$23+IF('PK AN-Brutto'!X9*'PK AG_Brutto'!$O$23>='PK AG_Brutto'!$O$24+$O$25,$O$25,IF('PK AN-Brutto'!X9*'PK AG_Brutto'!$O$23-'PK AG_Brutto'!$O$24<=0,0,'PK AN-Brutto'!X9*'PK AG_Brutto'!$O$23-'PK AG_Brutto'!$O$24))*'PK AG_Brutto'!$O$30+IF('PK AN-Brutto'!X9*'PK AG_Brutto'!$O$23>='PK AG_Brutto'!$O$24+$O$25,$O$25,IF('PK AN-Brutto'!X9*'PK AG_Brutto'!$O$23-'PK AG_Brutto'!$O$24<=0,0,'PK AN-Brutto'!X9*'PK AG_Brutto'!$O$23-'PK AG_Brutto'!$O$24))*'PK AG_Brutto'!$O$30*$O$31+IF('PK AN-Brutto'!X9*'PK AG_Brutto'!$O$23>='PK AG_Brutto'!$O$24+$O$25,$O$25,IF('PK AN-Brutto'!X9*'PK AG_Brutto'!$O$23-'PK AG_Brutto'!$O$24<=0,0,'PK AN-Brutto'!X9*'PK AG_Brutto'!$O$23-'PK AG_Brutto'!$O$24))*'PK AG_Brutto'!$O$30*$O$32+IF('PK AN-Brutto'!X9*'PK AG_Brutto'!$O$23>='PK AG_Brutto'!$O$26,('PK AN-Brutto'!X9*'PK AG_Brutto'!$O$23-'PK AG_Brutto'!$O$26+'PK AG_Brutto'!$O$26/'PK AG_Brutto'!$O$23*'PK AG_Brutto'!$O$27-'PK AG_Brutto'!$O$28)*'PK AG_Brutto'!$O$14,('PK AN-Brutto'!X9*'PK AG_Brutto'!$O$23/'PK AG_Brutto'!$O$23*'PK AG_Brutto'!$O$27-'PK AG_Brutto'!$O$28)*'PK AG_Brutto'!$O$14)+'PK AN-Brutto'!X9*'PK AG_Brutto'!$O$33)/'PK AN-Brutto'!X9)) | H6: =IF(G6="","",ROUND(D6*G6,2)) | J6: =IF(I6>0,ROUND(D6*I6,2),"") | L6: =IF(D6="","",IF(M6="nur eine Option zur Altersversorg. möglich","FEHLER",SUM(D6,E6,F6,H6,J6,K6))) | M6: =IF(COUNT(H6,I6,K6)>1,"nur eine Option zur Altersversorg. möglich","") | N6: Sozialversicherung und Umlagen
C7: =IF('PK Zusammenfassung'!C11=0,"",'PK Zusammenfassung'!C11) | D7: ='PK AN-Brutto'!W10 | F7: =IF(D7="","",ROUND(($D7-'PK AN-Brutto'!N10)*F$3,2)) | G7: =IF(D7="","",IF($O$23=0,"",('PK AN-Brutto'!X10*'PK AG_Brutto'!$O$23+IF('PK AN-Brutto'!X10*'PK AG_Brutto'!$O$23>='PK AG_Brutto'!$O$24+$O$25,$O$25,IF('PK AN-Brutto'!X10*'PK AG_Brutto'!$O$23-'PK AG_Brutto'!$O$24<=0,0,'PK AN-Brutto'!X10*'PK AG_Brutto'!$O$23-'PK AG_Brutto'!$O$24))*'PK AG_Brutto'!$O$30+IF('PK AN-Brutto'!X10*'PK AG_Brutto'!$O$23>='PK AG_Brutto'!$O$24+$O$25,$O$25,IF('PK AN-Brutto'!X10*'PK AG_Brutto'!$O$23-'PK AG_Brutto'!$O$24<=0,0,'PK AN-Brutto'!X10*'PK AG_Brutto'!$O$23-'PK AG_Brutto'!$O$24))*'PK AG_Brutto'!$O$30*$O$31+IF('PK AN-Brutto'!X10*'PK AG_Brutto'!$O$23>='PK AG_Brutto'!$O$24+$O$25,$O$25,IF('PK AN-Brutto'!X10*'PK AG_Brutto'!$O$23-'PK AG_Brutto'!$O$24<=0,0,'PK AN-Brutto'!X10*'PK AG_Brutto'!$O$23-'PK AG_Brutto'!$O$24))*'PK AG_Brutto'!$O$30*$O$32+IF('PK AN-Brutto'!X10*'PK AG_Brutto'!$O$23>='PK AG_Brutto'!$O$26,('PK AN-Brutto'!X10*'PK AG_Brutto'!$O$23-'PK AG_Brutto'!$O$26+'PK AG_Brutto'!$O$26/'PK AG_Brutto'!$O$23*'PK AG_Brutto'!$O$27-'PK AG_Brutto'!$O$28)*'PK AG_Brutto'!$O$14,('PK AN-Brutto'!X10*'PK AG_Brutto'!$O$23/'PK AG_Brutto'!$O$23*'PK AG_Brutto'!$O$27-'PK AG_Brutto'!$O$28)*'PK AG_Brutto'!$O$14)+'PK AN-Brutto'!X10*'PK AG_Brutto'!$O$33)/'PK AN-Brutto'!X10)) | H7: =IF(G7="","",ROUND(D7*G7,2)) | J7: =IF(I7>0,ROUND(D7*I7,2),"") | L7: =IF(D7="","",IF(M7="nur eine Option zur Altersversorg. möglich","FEHLER",SUM(D7,E7,F7,H7,J7,K7))) | M7: =IF(COUNT(H7,I7,K7)>1,"nur eine Option zur Altersversorg. möglich","") | N7: Rentenversicherung
C8: =IF('PK Zusammenfassung'!C12=0,"",'PK Zusammenfassung'!C12) | D8: ='PK AN-Brutto'!W11 | F8: =IF(D8="","",ROUND(($D8-'PK AN-Brutto'!N11)*F$3,2)) | G8: =IF(D8="","",IF($O$23=0,"",('PK AN-Brutto'!X11*'PK AG_Brutto'!$O$23+IF('PK AN-Brutto'!X11*'PK AG_Brutto'!$O$23>='PK AG_Brutto'!$O$24+$O$25,$O$25,IF('PK AN-Brutto'!X11*'PK AG_Brutto'!$O$23-'PK AG_Brutto'!$O$24<=0,0,'PK AN-Brutto'!X11*'PK AG_Brutto'!$O$23-'PK AG_Brutto'!$O$24))*'PK AG_Brutto'!$O$30+IF('PK AN-Brutto'!X11*'PK AG_Brutto'!$O$23>='PK AG_Brutto'!$O$24+$O$25,$O$25,IF('PK AN-Brutto'!X11*'PK AG_Brutto'!$O$23-'PK AG_Brutto'!$O$24<=0,0,'PK AN-Brutto'!X11*'PK AG_Brutto'!$O$23-'PK AG_Brutto'!$O$24))*'PK AG_Brutto'!$O$30*$O$31+IF('PK AN-Brutto'!X11*'PK AG_Brutto'!$O$23>='PK AG_Brutto'!$O$24+$O$25,$O$25,IF('PK AN-Brutto'!X11*'PK AG_Brutto'!$O$23-'PK AG_Brutto'!$O$24<=0,0,'PK AN-Brutto'!X11*'PK AG_Brutto'!$O$23-'PK AG_Brutto'!$O$24))*'PK AG_Brutto'!$O$30*$O$32+IF('PK AN-Brutto'!X11*'PK AG_Brutto'!$O$23>='PK AG_Brutto'!$O$26,('PK AN-Brutto'!X11*'PK AG_Brutto'!$O$23-'PK AG_Brutto'!$O$26+'PK AG_Brutto'!$O$26/'PK AG_Brutto'!$O$23*'PK AG_Brutto'!$O$27-'PK AG_Brutto'!$O$28)*'PK AG_Brutto'!$O$14,('PK AN-Brutto'!X11*'PK AG_Brutto'!$O$23/'PK AG_Brutto'!$O$23*'PK AG_Brutto'!$O$27-'PK AG_Brutto'!$O$28)*'PK AG_Brutto'!$O$14)+'PK AN-Brutto'!X11*'PK AG_Brutto'!$O$33)/'PK AN-Brutto'!X11)) | H8: =IF(G8="","",ROUND(D8*G8,2)) | J8: =IF(I8>0,ROUND(D8*I8,2),"") | L8: =IF(D8="","",IF(M8="nur eine Option zur Altersversorg. möglich","FEHLER",SUM(D8,E8,F8,H8,J8,K8))) | M8: =IF(COUNT(H8,I8,K8)>1,"nur eine Option zur Altersversorg. möglich","") | N8: Krankenversicherung
C9: =IF('PK Zusammenfassung'!C13=0,"",'PK Zusammenfassung'!C13) | D9: ='PK AN-Brutto'!W12 | F9: =IF(D9="","",ROUND(($D9-'PK AN-Brutto'!N12)*F$3,2)) | G9: =IF(D9="","",IF($O$23=0,"",('PK AN-Brutto'!X12*'PK AG_Brutto'!$O$23+IF('PK AN-Brutto'!X12*'PK AG_Brutto'!$O$23>='PK AG_Brutto'!$O$24+$O$25,$O$25,IF('PK AN-Brutto'!X12*'PK AG_Brutto'!$O$23-'PK AG_Brutto'!$O$24<=0,0,'PK AN-Brutto'!X12*'PK AG_Brutto'!$O$23-'PK AG_Brutto'!$O$24))*'PK AG_Brutto'!$O$30+IF('PK AN-Brutto'!X12*'PK AG_Brutto'!$O$23>='PK AG_Brutto'!$O$24+$O$25,$O$25,IF('PK AN-Brutto'!X12*'PK AG_Brutto'!$O$23-'PK AG_Brutto'!$O$24<=0,0,'PK AN-Brutto'!X12*'PK AG_Brutto'!$O$23-'PK AG_Brutto'!$O$24))*'PK AG_Brutto'!$O$30*$O$31+IF('PK AN-Brutto'!X12*'PK AG_Brutto'!$O$23>='PK AG_Brutto'!$O$24+$O$25,$O$25,IF('PK AN-Brutto'!X12*'PK AG_Brutto'!$O$23-'PK AG_Brutto'!$O$24<=0,0,'PK AN-Brutto'!X12*'PK AG_Brutto'!$O$23-'PK AG_Brutto'!$O$24))*'PK AG_Brutto'!$O$30*$O$32+IF('PK AN-Brutto'!X12*'PK AG_Brutto'!$O$23>='PK AG_Brutto'!$O$26,('PK AN-Brutto'!X12*'PK AG_Brutto'!$O$23-'PK AG_Brutto'!$O$26+'PK AG_Brutto'!$O$26/'PK AG_Brutto'!$O$23*'PK AG_Brutto'!$O$27-'PK AG_Brutto'!$O$28)*'PK AG_Brutto'!$O$14,('PK AN-Brutto'!X12*'PK AG_Brutto'!$O$23/'PK AG_Brutto'!$O$23*'PK AG_Brutto'!$O$27-'PK AG_Brutto'!$O$28)*'PK AG_Brutto'!$O$14)+'PK AN-Brutto'!X12*'PK AG_Brutto'!$O$33)/'PK AN-Brutto'!X12)) | H9: =IF(G9="","",ROUND(D9*G9,2)) | J9: =IF(I9>0,ROUND(D9*I9,2),"") | L9: =IF(D9="","",IF(M9="nur eine Option zur Altersversorg. möglich","FEHLER",SUM(D9,E9,F9,H9,J9,K9))) | M9: =IF(COUNT(H9,I9,K9)>1,"nur eine Option zur Altersversorg. möglich","") | N9: Pflegeversicherung
C10: =IF('PK Zusammenfassung'!C14=0,"",'PK Zusammenfassung'!C14) | D10: ='PK AN-Brutto'!W13 | F10: =IF(D10="","",ROUND(($D10-'PK AN-Brutto'!N13)*F$3,2)) | G10: =IF(D10="","",IF($O$23=0,"",('PK AN-Brutto'!X13*'PK AG_Brutto'!$O$23+IF('PK AN-Brutto'!X13*'PK AG_Brutto'!$O$23>='PK AG_Brutto'!$O$24+$O$25,$O$25,IF('PK AN-Brutto'!X13*'PK AG_Brutto'!$O$23-'PK AG_Brutto'!$O$24<=0,0,'PK AN-Brutto'!X13*'PK AG_Brutto'!$O$23-'PK AG_Brutto'!$O$24))*'PK AG_Brutto'!$O$30+IF('PK AN-Brutto'!X13*'PK AG_Brutto'!$O$23>='PK AG_Brutto'!$O$24+$O$25,$O$25,IF('PK AN-Brutto'!X13*'PK AG_Brutto'!$O$23-'PK AG_Brutto'!$O$24<=0,0,'PK AN-Brutto'!X13*'PK AG_Brutto'!$O$23-'PK AG_Brutto'!$O$24))*'PK AG_Brutto'!$O$30*$O$31+IF('PK AN-Brutto'!X13*'PK AG_Brutto'!$O$23>='PK AG_Brutto'!$O$24+$O$25,$O$25,IF('PK AN-Brutto'!X13*'PK AG_Brutto'!$O$23-'PK AG_Brutto'!$O$24<=0,0,'PK AN-Brutto'!X13*'PK AG_Brutto'!$O$23-'PK AG_Brutto'!$O$24))*'PK AG_Brutto'!$O$30*$O$32+IF('PK AN-Brutto'!X13*'PK AG_Brutto'!$O$23>='PK AG_Brutto'!$O$26,('PK AN-Brutto'!X13*'PK AG_Brutto'!$O$23-'PK AG_Brutto'!$O$26+'PK AG_Brutto'!$O$26/'PK AG_Brutto'!$O$23*'PK AG_Brutto'!$O$27-'PK AG_Brutto'!$O$28)*'PK AG_Brutto'!$O$14,('PK AN-Brutto'!X13*'PK AG_Brutto'!$O$23/'PK AG_Brutto'!$O$23*'PK AG_Brutto'!$O$27-'PK AG_Brutto'!$O$28)*'PK AG_Brutto'!$O$14)+'PK AN-Brutto'!X13*'PK AG_Brutto'!$O$33)/'PK AN-Brutto'!X13)) | H10: =IF(G10="","",ROUND(D10*G10,2)) | J10: =IF(I10>0,ROUND(D10*I10,2),"") | L10: =IF(D10="","",IF(M10="nur eine Option zur Altersversorg. möglich","FEHLER",SUM(D10,E10,F10,H10,J10,K10))) | M10: =IF(COUNT(H10,I10,K10)>1,"nur eine Option zur Altersversorg. möglich","") | N10: Arbeitslosenversicherung
C11: =IF('PK Zusammenfassung'!C15=0,"",'PK Zusammenfassung'!C15) -> Auszubildende/ Studierende | D11: ='PK AN-Brutto'!W14 | F11: =IF(D11="","",ROUND($D11*F$3,2)) | G11: =IF(D11="","",IF($O$23=0,"",('PK AN-Brutto'!X14*'PK AG_Brutto'!$O$23+IF('PK AN-Brutto'!X14*'PK AG_Brutto'!$O$23>='PK AG_Brutto'!$O$24+$O$25,$O$25,IF('PK AN-Brutto'!X14*'PK AG_Brutto'!$O$23-'PK AG_Brutto'!$O$24<=0,0,'PK AN-Brutto'!X14*'PK AG_Brutto'!$O$23-'PK AG_Brutto'!$O$24))*'PK AG_Brutto'!$O$30+IF('PK AN-Brutto'!X14*'PK AG_Brutto'!$O$23>='PK AG_Brutto'!$O$24+$O$25,$O$25,IF('PK AN-Brutto'!X14*'PK AG_Brutto'!$O$23-'PK AG_Brutto'!$O$24<=0,0,'PK AN-Brutto'!X14*'PK AG_Brutto'!$O$23-'PK AG_Brutto'!$O$24))*'PK AG_Brutto'!$O$30*$O$31+IF('PK AN-Brutto'!X14*'PK AG_Brutto'!$O$23>='PK AG_Brutto'!$O$24+$O$25,$O$25,IF('PK AN-Brutto'!X14*'PK AG_Brutto'!$O$23-'PK AG_Brutto'!$O$24<=0,0,'PK AN-Brutto'!X14*'PK AG_Brutto'!$O$23-'PK AG_Brutto'!$O$24))*'PK AG_Brutto'!$O$30*$O$32+IF('PK AN-Brutto'!X14*'PK AG_Brutto'!$O$23>='PK AG_Brutto'!$O$26,('PK AN-Brutto'!X14*'PK AG_Brutto'!$O$23-'PK AG_Brutto'!$O$26+'PK AG_Brutto'!$O$26/'PK AG_Brutto'!$O$23*'PK AG_Brutto'!$O$27-'PK AG_Brutto'!$O$28)*'PK AG_Brutto'!$O$14,('PK AN-Brutto'!X14*'PK AG_Brutto'!$O$23/'PK AG_Brutto'!$O$23*'PK AG_Brutto'!$O$27-'PK AG_Brutto'!$O$28)*'PK AG_Brutto'!$O$14)+'PK AN-Brutto'!X14*'PK AG_Brutto'!$O$33)/'PK AN-Brutto'!X14)) | H11: =IF(G11="","",ROUND(D11*G11,2)) | J11: =IF(I11>0,ROUND(D11*I11,2),"") | L11: =IF(D11="","",IF(M11="nur eine Option zur Altersversorg. möglich","FEHLER",SUM(D11,E11,F11,H11,J11,K11))) | N11: U1 Umlage
C12: =IF('PK Zusammenfassung'!C16=0,"",'PK Zusammenfassung'!C16) -> Praktikant:innen | D12: ='PK AN-Brutto'!W15 | F12: =IF(D12="","",ROUND($D12*F$3,2)) | G12: =IF(D12="","",IF($O$23=0,"",('PK AN-Brutto'!X15*'PK AG_Brutto'!$O$23+IF('PK AN-Brutto'!X15*'PK AG_Brutto'!$O$23>='PK AG_Brutto'!$O$24+$O$25,$O$25,IF('PK AN-Brutto'!X15*'PK AG_Brutto'!$O$23-'PK AG_Brutto'!$O$24<=0,0,'PK AN-Brutto'!X15*'PK AG_Brutto'!$O$23-'PK AG_Brutto'!$O$24))*'PK AG_Brutto'!$O$30+IF('PK AN-Brutto'!X15*'PK AG_Brutto'!$O$23>='PK AG_Brutto'!$O$24+$O$25,$O$25,IF('PK AN-Brutto'!X15*'PK AG_Brutto'!$O$23-'PK AG_Brutto'!$O$24<=0,0,'PK AN-Brutto'!X15*'PK AG_Brutto'!$O$23-'PK AG_Brutto'!$O$24))*'PK AG_Brutto'!$O$30*$O$31+IF('PK AN-Brutto'!X15*'PK AG_Brutto'!$O$23>='PK AG_Brutto'!$O$24+$O$25,$O$25,IF('PK AN-Brutto'!X15*'PK AG_Brutto'!$O$23-'PK AG_Brutto'!$O$24<=0,0,'PK AN-Brutto'!X15*'PK AG_Brutto'!$O$23-'PK AG_Brutto'!$O$24))*'PK AG_Brutto'!$O$30*$O$32+IF('PK AN-Brutto'!X15*'PK AG_Brutto'!$O$23>='PK AG_Brutto'!$O$26,('PK AN-Brutto'!X15*'PK AG_Brutto'!$O$23-'PK AG_Brutto'!$O$26+'PK AG_Brutto'!$O$26/'PK AG_Brutto'!$O$23*'PK AG_Brutto'!$O$27-'PK AG_Brutto'!$O$28)*'PK AG_Brutto'!$O$14,('PK AN-Brutto'!X15*'PK AG_Brutto'!$O$23/'PK AG_Brutto'!$O$23*'PK AG_Brutto'!$O$27-'PK AG_Brutto'!$O$28)*'PK AG_Brutto'!$O$14)+'PK AN-Brutto'!X15*'PK AG_Brutto'!$O$33)/'PK AN-Brutto'!X15)) | H12: =IF(G12="","",ROUND(D12*G12,2)) | J12: =IF(I12>0,ROUND(D12*I12,2),"") | L12: =IF(D12="","",IF(M12="nur eine Option zur Altersversorg. möglich","FEHLER",SUM(D12,E12,F12,H12,J12,K12))) | M12: =IF(COUNT(H12,I12,K12)>1,"nur eine Option zur Altersversorg. möglich","") | N12: U2 Umlage
C13: =IF('PK Zusammenfassung'!C17=0,"",'PK Zusammenfassung'!C17) -> MiniJob | D13: ='PK AN-Brutto'!W16 | E13: =IF(D13="","",D13*$E$3) | G13: =IF(D13="","",IF($O$23=0,"",('PK AN-Brutto'!X16*'PK AG_Brutto'!$O$23+IF('PK AN-Brutto'!X16*'PK AG_Brutto'!$O$23>='PK AG_Brutto'!$O$24+$O$25,$O$25,IF('PK AN-Brutto'!X16*'PK AG_Brutto'!$O$23-'PK AG_Brutto'!$O$24<=0,0,'PK AN-Brutto'!X16*'PK AG_Brutto'!$O$23-'PK AG_Brutto'!$O$24))*'PK AG_Brutto'!$O$30+IF('PK AN-Brutto'!X16*'PK AG_Brutto'!$O$23>='PK AG_Brutto'!$O$24+$O$25,$O$25,IF('PK AN-Brutto'!X16*'PK AG_Brutto'!$O$23-'PK AG_Brutto'!$O$24<=0,0,'PK AN-Brutto'!X16*'PK AG_Brutto'!$O$23-'PK AG_Brutto'!$O$24))*'PK AG_Brutto'!$O$30*$O$31+IF('PK AN-Brutto'!X16*'PK AG_Brutto'!$O$23>='PK AG_Brutto'!$O$24+$O$25,$O$25,IF('PK AN-Brutto'!X16*'PK AG_Brutto'!$O$23-'PK AG_Brutto'!$O$24<=0,0,'PK AN-Brutto'!X16*'PK AG_Brutto'!$O$23-'PK AG_Brutto'!$O$24))*'PK AG_Brutto'!$O$30*$O$32+IF('PK AN-Brutto'!X16*'PK AG_Brutto'!$O$23>='PK AG_Brutto'!$O$26,('PK AN-Brutto'!X16*'PK AG_Brutto'!$O$23-'PK AG_Brutto'!$O$26+'PK AG_Brutto'!$O$26/'PK AG_Brutto'!$O$23*'PK AG_Brutto'!$O$27-'PK AG_Brutto'!$O$28)*'PK AG_Brutto'!$O$14,('PK AN-Brutto'!X16*'PK AG_Brutto'!$O$23/'PK AG_Brutto'!$O$23*'PK AG_Brutto'!$O$27-'PK AG_Brutto'!$O$28)*'PK AG_Brutto'!$O$14)+'PK AN-Brutto'!X16*'PK AG_Brutto'!$O$33)/'PK AN-Brutto'!X16)) | H13: =IF(G13="","",ROUND(D13*G13,2)) | J13: =IF(I13>0,ROUND(D13*I13,2),"") | L13: =IF(D13="","",IF(M13="nur eine Option zur Altersversorg. möglich","FEHLER",SUM(D13,E13,F13,H13,J13,K13))) | M13: =IF(COUNT(H13,I13,K13)>1,"nur eine Option zur Altersversorg. möglich","") | N13: Insolvenzversicherung
C14: =IF('PK Zusammenfassung'!C18=0,"",'PK Zusammenfassung'!C18) -> Honorare | D14: ='PK AN-Brutto'!W17 | L14: =IF(D14="","",IF(M14="nur eine Option zur Altersversorg. möglich","FEHLER",SUM(D14,E14,F14,H14,J14,K14))) | M14: =IF(COUNT(H14,I14,K14)>1,"nur eine Option zur Altersversorg. möglich","") | O14: =SUM(O7:O13) -> 0
C15: =IF('PK Zusammenfassung'!C19=0,"",'PK Zusammenfassung'!C19) -> BFD/ FSJ | D15: ='PK AN-Brutto'!W18 | L15: =IF(D15="","",IF(M15="nur eine Option zur Altersversorg. möglich","FEHLER",SUM(D15,E15,F15,H15,J15,K15))) | M15: =IF(COUNT(H15,I15,K15)>1,"nur eine Option zur Altersversorg. möglich","")
A17: (14) | C17: Leitung | N17: Berufsgenossenschaftsbeitrag
C18: =IF('PK Zusammenfassung'!C23=0,"",'PK Zusammenfassung'!C23) | D18: ='PK AN-Brutto'!W21 | F18: =IF(D18="","",ROUND($D18*F$3,2)) | G18: =IF(D18="","",IF($O$23=0,"",('PK AN-Brutto'!X21*'PK AG_Brutto'!$O$23+IF('PK AN-Brutto'!X21*'PK AG_Brutto'!$O$23>='PK AG_Brutto'!$O$24+$O$25,$O$25,IF('PK AN-Brutto'!X21*'PK AG_Brutto'!$O$23-'PK AG_Brutto'!$O$24<=0,0,'PK AN-Brutto'!X21*'PK AG_Brutto'!$O$23-'PK AG_Brutto'!$O$24))*'PK AG_Brutto'!$O$30+IF('PK AN-Brutto'!X21*'PK AG_Brutto'!$O$23>='PK AG_Brutto'!$O$24+$O$25,$O$25,IF('PK AN-Brutto'!X21*'PK AG_Brutto'!$O$23-'PK AG_Brutto'!$O$24<=0,0,'PK AN-Brutto'!X21*'PK AG_Brutto'!$O$23-'PK AG_Brutto'!$O$24))*'PK AG_Brutto'!$O$30*$O$31+IF('PK AN-Brutto'!X21*'PK AG_Brutto'!$O$23>='PK AG_Brutto'!$O$24+$O$25,$O$25,IF('PK AN-Brutto'!X21*'PK AG_Brutto'!$O$23-'PK AG_Brutto'!$O$24<=0,0,'PK AN-Brutto'!X21*'PK AG_Brutto'!$O$23-'PK AG_Brutto'!$O$24))*'PK AG_Brutto'!$O$30*$O$32+IF('PK AN-Brutto'!X21*'PK AG_Brutto'!$O$23>='PK AG_Brutto'!$O$26,('PK AN-Brutto'!X21*'PK AG_Brutto'!$O$23-'PK AG_Brutto'!$O$26+'PK AG_Brutto'!$O$26/'PK AG_Brutto'!$O$23*'PK AG_Brutto'!$O$27-'PK AG_Brutto'!$O$28)*'PK AG_Brutto'!$O$14,('PK AN-Brutto'!X21*'PK AG_Brutto'!$O$23/'PK AG_Brutto'!$O$23*'PK AG_Brutto'!$O$27-'PK AG_Brutto'!$O$28)*'PK AG_Brutto'!$O$14)+'PK AN-Brutto'!X21*'PK AG_Brutto'!$O$33)/'PK AN-Brutto'!X21)) | H18: =IF(G18="","",ROUND(D18*G18,2)) | J18: =IF(I18>0,ROUND(D18*I18,2),"") | L18: =IF(D18="","",IF(M18="nur eine Option zur Altersversorg. möglich","FEHLER",SUM(D18,E18,F18,H18,J18,K18))) | M18: =IF(COUNT(H18,I18,K18)>1,"nur eine Option zur Altersversorg. möglich","") | N18: BGW | P18: =IF('PK Zusammenfassung'!J35>0,ROUND('PK Zusammenfassung'!J35*O18,2),"")
C19: =IF('PK Zusammenfassung'!C24=0,"",'PK Zusammenfassung'!C24) | D19: ='PK AN-Brutto'!W22 | F19: =IF(D19="","",ROUND($D19*F$3,2)) | G19: =IF(D19="","",IF($O$23=0,"",('PK AN-Brutto'!X22*'PK AG_Brutto'!$O$23+IF('PK AN-Brutto'!X22*'PK AG_Brutto'!$O$23>='PK AG_Brutto'!$O$24+$O$25,$O$25,IF('PK AN-Brutto'!X22*'PK AG_Brutto'!$O$23-'PK AG_Brutto'!$O$24<=0,0,'PK AN-Brutto'!X22*'PK AG_Brutto'!$O$23-'PK AG_Brutto'!$O$24))*'PK AG_Brutto'!$O$30+IF('PK AN-Brutto'!X22*'PK AG_Brutto'!$O$23>='PK AG_Brutto'!$O$24+$O$25,$O$25,IF('PK AN-Brutto'!X22*'PK AG_Brutto'!$O$23-'PK AG_Brutto'!$O$24<=0,0,'PK AN-Brutto'!X22*'PK AG_Brutto'!$O$23-'PK AG_Brutto'!$O$24))*'PK AG_Brutto'!$O$30*$O$31+IF('PK AN-Brutto'!X22*'PK AG_Brutto'!$O$23>='PK AG_Brutto'!$O$24+$O$25,$O$25,IF('PK AN-Brutto'!X22*'PK AG_Brutto'!$O$23-'PK AG_Brutto'!$O$24<=0,0,'PK AN-Brutto'!X22*'PK AG_Brutto'!$O$23-'PK AG_Brutto'!$O$24))*'PK AG_Brutto'!$O$30*$O$32+IF('PK AN-Brutto'!X22*'PK AG_Brutto'!$O$23>='PK AG_Brutto'!$O$26,('PK AN-Brutto'!X22*'PK AG_Brutto'!$O$23-'PK AG_Brutto'!$O$26+'PK AG_Brutto'!$O$26/'PK AG_Brutto'!$O$23*'PK AG_Brutto'!$O$27-'PK AG_Brutto'!$O$28)*'PK AG_Brutto'!$O$14,('PK AN-Brutto'!X22*'PK AG_Brutto'!$O$23/'PK AG_Brutto'!$O$23*'PK AG_Brutto'!$O$27-'PK AG_Brutto'!$O$28)*'PK AG_Brutto'!$O$14)+'PK AN-Brutto'!X22*'PK AG_Brutto'!$O$33)/'PK AN-Brutto'!X22)) | H19: =IF(G19="","",ROUND(D19*G19,2)) | J19: =IF(I19>0,ROUND(D19*I19,2),"") | L19: =IF(D19="","",IF(M19="nur eine Option zur Altersversorg. möglich","FEHLER",SUM(D19,E19,F19,H19,J19,K19))) | M19: =IF(COUNT(H19,I19,K19)>1,"nur eine Option zur Altersversorg. möglich","")
A21: (15) | C21: Verwaltung | N21: Eckdaten Zusatzversorgung | Q21: Exemplarische Berechnung für die Daten Spalte G
C22: =IF('PK Zusammenfassung'!C28=0,"",'PK Zusammenfassung'!C28) | D22: ='PK AN-Brutto'!W25 | F22: =IF(D22="","",ROUND($D22*F$3,2)) | G22: =IF(D22="","",IF($O$23=0,"",('PK AN-Brutto'!X25*'PK AG_Brutto'!$O$23+IF('PK AN-Brutto'!X25*'PK AG_Brutto'!$O$23>='PK AG_Brutto'!$O$24+$O$25,$O$25,IF('PK AN-Brutto'!X25*'PK AG_Brutto'!$O$23-'PK AG_Brutto'!$O$24<=0,0,'PK AN-Brutto'!X25*'PK AG_Brutto'!$O$23-'PK AG_Brutto'!$O$24))*'PK AG_Brutto'!$O$30+IF('PK AN-Brutto'!X25*'PK AG_Brutto'!$O$23>='PK AG_Brutto'!$O$24+$O$25,$O$25,IF('PK AN-Brutto'!X25*'PK AG_Brutto'!$O$23-'PK AG_Brutto'!$O$24<=0,0,'PK AN-Brutto'!X25*'PK AG_Brutto'!$O$23-'PK AG_Brutto'!$O$24))*'PK AG_Brutto'!$O$30*$O$31+IF('PK AN-Brutto'!X25*'PK AG_Brutto'!$O$23>='PK AG_Brutto'!$O$24+$O$25,$O$25,IF('PK AN-Brutto'!X25*'PK AG_Brutto'!$O$23-'PK AG_Brutto'!$O$24<=0,0,'PK AN-Brutto'!X25*'PK AG_Brutto'!$O$23-'PK AG_Brutto'!$O$24))*'PK AG_Brutto'!$O$30*$O$32+IF('PK AN-Brutto'!X25*'PK AG_Brutto'!$O$23>='PK AG_Brutto'!$O$26,('PK AN-Brutto'!X25*'PK AG_Brutto'!$O$23-'PK AG_Brutto'!$O$26+'PK AG_Brutto'!$O$26/'PK AG_Brutto'!$O$23*'PK AG_Brutto'!$O$27-'PK AG_Brutto'!$O$28)*'PK AG_Brutto'!$O$14,('PK AN-Brutto'!X25*'PK AG_Brutto'!$O$23/'PK AG_Brutto'!$O$23*'PK AG_Brutto'!$O$27-'PK AG_Brutto'!$O$28)*'PK AG_Brutto'!$O$14)+'PK AN-Brutto'!X25*'PK AG_Brutto'!$O$33)/'PK AN-Brutto'!X25)) | H22: =IF(G22="","",ROUND(D22*G22,2)) | J22: =IF(I22>0,ROUND(D22*I22,2),"") | L22: =IF(D22="","",IF(M22="nur eine Option zur Altersversorg. möglich","FEHLER",SUM(D22,E22,F22,H22,J22,K22))) | M22: =IF(COUNT(H22,I22,K22)>1,"nur eine Option zur Altersversorg. möglich","") | Q22: monatliches AN Bruttoentgelt
C23: =IF('PK Zusammenfassung'!C29=0,"",'PK Zusammenfassung'!C29) | D23: ='PK AN-Brutto'!W26 | F23: =IF(D23="","",ROUND($D23*F$3,2)) | G23: =IF(D23="","",IF($O$23=0,"",('PK AN-Brutto'!X26*'PK AG_Brutto'!$O$23+IF('PK AN-Brutto'!X26*'PK AG_Brutto'!$O$23>='PK AG_Brutto'!$O$24+$O$25,$O$25,IF('PK AN-Brutto'!X26*'PK AG_Brutto'!$O$23-'PK AG_Brutto'!$O$24<=0,0,'PK AN-Brutto'!X26*'PK AG_Brutto'!$O$23-'PK AG_Brutto'!$O$24))*'PK AG_Brutto'!$O$30+IF('PK AN-Brutto'!X26*'PK AG_Brutto'!$O$23>='PK AG_Brutto'!$O$24+$O$25,$O$25,IF('PK AN-Brutto'!X26*'PK AG_Brutto'!$O$23-'PK AG_Brutto'!$O$24<=0,0,'PK AN-Brutto'!X26*'PK AG_Brutto'!$O$23-'PK AG_Brutto'!$O$24))*'PK AG_Brutto'!$O$30*$O$31+IF('PK AN-Brutto'!X26*'PK AG_Brutto'!$O$23>='PK AG_Brutto'!$O$24+$O$25,$O$25,IF('PK AN-Brutto'!X26*'PK AG_Brutto'!$O$23-'PK AG_Brutto'!$O$24<=0,0,'PK AN-Brutto'!X26*'PK AG_Brutto'!$O$23-'PK AG_Brutto'!$O$24))*'PK AG_Brutto'!$O$30*$O$32+IF('PK AN-Brutto'!X26*'PK AG_Brutto'!$O$23>='PK AG_Brutto'!$O$26,('PK AN-Brutto'!X26*'PK AG_Brutto'!$O$23-'PK AG_Brutto'!$O$26+'PK AG_Brutto'!$O$26/'PK AG_Brutto'!$O$23*'PK AG_Brutto'!$O$27-'PK AG_Brutto'!$O$28)*'PK AG_Brutto'!$O$14,('PK AN-Brutto'!X26*'PK AG_Brutto'!$O$23/'PK AG_Brutto'!$O$23*'PK AG_Brutto'!$O$27-'PK AG_Brutto'!$O$28)*'PK AG_Brutto'!$O$14)+'PK AN-Brutto'!X26*'PK AG_Brutto'!$O$33)/'PK AN-Brutto'!X26)) | H23: =IF(G23="","",ROUND(D23*G23,2)) | J23: =IF(I23>0,ROUND(D23*I23,2),"") | L23: =IF(D23="","",IF(M23="nur eine Option zur Altersversorg. möglich","FEHLER",SUM(D23,E23,F23,H23,J23,K23))) | M23: =IF(COUNT(H23,I23,K23)>1,"nur eine Option zur Altersversorg. möglich","") | N23: Umlage ZVK Arbeitgeber | Q23: Umlage ZVK Arbeitgeber | T23: =T22*O23 -> 0
C24: =IF('PK Zusammenfassung'!C30=0,"",'PK Zusammenfassung'!C30) | D24: ='PK AN-Brutto'!W27 | F24: =IF(D24="","",ROUND($D24*F$3,2)) | G24: =IF(D24="","",IF($O$23=0,"",('PK AN-Brutto'!X27*'PK AG_Brutto'!$O$23+IF('PK AN-Brutto'!X27*'PK AG_Brutto'!$O$23>='PK AG_Brutto'!$O$24+$O$25,$O$25,IF('PK AN-Brutto'!X27*'PK AG_Brutto'!$O$23-'PK AG_Brutto'!$O$24<=0,0,'PK AN-Brutto'!X27*'PK AG_Brutto'!$O$23-'PK AG_Brutto'!$O$24))*'PK AG_Brutto'!$O$30+IF('PK AN-Brutto'!X27*'PK AG_Brutto'!$O$23>='PK AG_Brutto'!$O$24+$O$25,$O$25,IF('PK AN-Brutto'!X27*'PK AG_Brutto'!$O$23-'PK AG_Brutto'!$O$24<=0,0,'PK AN-Brutto'!X27*'PK AG_Brutto'!$O$23-'PK AG_Brutto'!$O$24))*'PK AG_Brutto'!$O$30*$O$31+IF('PK AN-Brutto'!X27*'PK AG_Brutto'!$O$23>='PK AG_Brutto'!$O$24+$O$25,$O$25,IF('PK AN-Brutto'!X27*'PK AG_Brutto'!$O$23-'PK AG_Brutto'!$O$24<=0,0,'PK AN-Brutto'!X27*'PK AG_Brutto'!$O$23-'PK AG_Brutto'!$O$24))*'PK AG_Brutto'!$O$30*$O$32+IF('PK AN-Brutto'!X27*'PK AG_Brutto'!$O$23>='PK AG_Brutto'!$O$26,('PK AN-Brutto'!X27*'PK AG_Brutto'!$O$23-'PK AG_Brutto'!$O$26+'PK AG_Brutto'!$O$26/'PK AG_Brutto'!$O$23*'PK AG_Brutto'!$O$27-'PK AG_Brutto'!$O$28)*'PK AG_Brutto'!$O$14,('PK AN-Brutto'!X27*'PK AG_Brutto'!$O$23/'PK AG_Brutto'!$O$23*'PK AG_Brutto'!$O$27-'PK AG_Brutto'!$O$28)*'PK AG_Brutto'!$O$14)+'PK AN-Brutto'!X27*'PK AG_Brutto'!$O$33)/'PK AN-Brutto'!X27)) | H24: =IF(G24="","",ROUND(D24*G24,2)) | J24: =IF(I24>0,ROUND(D24*I24,2),"") | L24: =IF(D24="","",IF(M24="nur eine Option zur Altersversorg. möglich","FEHLER",SUM(D24,E24,F24,H24,J24,K24))) | M24: =IF(COUNT(H24,I24,K24)>1,"nur eine Option zur Altersversorg. möglich","") | N24: davon steuerfrei (§3 Nr.56 EStG) | Q24: abzüglich steuerfrei = | S24: =IF(T23-O24>=0,T23-O24,0) -> 0
C25: =IF('PK Zusammenfassung'!C31=0,"",'PK Zusammenfassung'!C31) -> MiniJob | D25: ='PK AN-Brutto'!W28 | E25: =IF(D25="","",D25*$E$3) | G25: =IF(D25="","",IF($O$23=0,"",('PK AN-Brutto'!X28*'PK AG_Brutto'!$O$23+IF('PK AN-Brutto'!X28*'PK AG_Brutto'!$O$23>='PK AG_Brutto'!$O$24+$O$25,$O$25,IF('PK AN-Brutto'!X28*'PK AG_Brutto'!$O$23-'PK AG_Brutto'!$O$24<=0,0,'PK AN-Brutto'!X28*'PK AG_Brutto'!$O$23-'PK AG_Brutto'!$O$24))*'PK AG_Brutto'!$O$30+IF('PK AN-Brutto'!X28*'PK AG_Brutto'!$O$23>='PK AG_Brutto'!$O$24+$O$25,$O$25,IF('PK AN-Brutto'!X28*'PK AG_Brutto'!$O$23-'PK AG_Brutto'!$O$24<=0,0,'PK AN-Brutto'!X28*'PK AG_Brutto'!$O$23-'PK AG_Brutto'!$O$24))*'PK AG_Brutto'!$O$30*$O$31+IF('PK AN-Brutto'!X28*'PK AG_Brutto'!$O$23>='PK AG_Brutto'!$O$24+$O$25,$O$25,IF('PK AN-Brutto'!X28*'PK AG_Brutto'!$O$23-'PK AG_Brutto'!$O$24<=0,0,'PK AN-Brutto'!X28*'PK AG_Brutto'!$O$23-'PK AG_Brutto'!$O$24))*'PK AG_Brutto'!$O$30*$O$32+IF('PK AN-Brutto'!X28*'PK AG_Brutto'!$O$23>='PK AG_Brutto'!$O$26,('PK AN-Brutto'!X28*'PK AG_Brutto'!$O$23-'PK AG_Brutto'!$O$26+'PK AG_Brutto'!$O$26/'PK AG_Brutto'!$O$23*'PK AG_Brutto'!$O$27-'PK AG_Brutto'!$O$28)*'PK AG_Brutto'!$O$14,('PK AN-Brutto'!X28*'PK AG_Brutto'!$O$23/'PK AG_Brutto'!$O$23*'PK AG_Brutto'!$O$27-'PK AG_Brutto'!$O$28)*'PK AG_Brutto'!$O$14)+'PK AN-Brutto'!X28*'PK AG_Brutto'!$O$33)/'PK AN-Brutto'!X28)) | H25: =IF(G25="","",ROUND(D25*G25,2)) | J25: =IF(I25>0,ROUND(D25*I25,2),"") | L25: =IF(D25="","",IF(M25="nur eine Option zur Altersversorg. möglich","FEHLER",SUM(D25,E25,F25,H25,J25,K25))) | M25: =IF(COUNT(H25,I25,K25)>1,"nur eine Option zur Altersversorg. möglich","") | N25: davon pauschal zu versteuern bis zu | Q25: pauschal zu versteuern = | S25: =IF(S24<=O25,S24,O25) -> 0
C26: =IF('PK Zusammenfassung'!C32=0,"",'PK Zusammenfassung'!C32) -> Honorare | D26: ='PK AN-Brutto'!W29 | L26: =IF(D26="","",IF(M26="nur eine Option zur Altersversorg. möglich","FEHLER",SUM(D26,E26,F26,H26,J26,K26))) | M26: =IF(COUNT(H26,I26,K26)>1,"nur eine Option zur Altersversorg. möglich","") | N26: davon sozialversicherungsfrei | Q26: abzüglich soz.frei = | S26: =IF(T23-O26>=0,T23-O26,0) -> 0
N27: soz.frei dividiert Umlage mal Prozent | Q27: auf 100€ ZV-AG entfallen = | S27: =IF(O23="","",IF(T23>=O26,O26/O23*O27,T23/O23*O27))
N28: abzüglich Freibetrag | Q28: abzüglich Freibetrag = | S28: =-O28 -> 0
Q29: sozialvers.pflichtig AG | S29: =SUM(S26:S28) -> 0 | T29: =ROUND(S29*O14,2) -> 0
N30: Pauschalsteuer | Q30: pauschal zu versteuern = | S30: =S25 -> 0 | T30: =S30*O30 -> 0
N31: Solidaritätszuschlag | T31: =T30*O31 -> 0
N32: Kirchensteuer | T32: =T30*O32 -> 0
N33: Sanierungsgeld SV und Steuerfrei | Q33: Sanierungsgeld | T33: =T22*O33 -> 0
T34: =SUM(T23:T33) -> 0
T35: =IF(T22="","",ROUND(T34/T22,4))

Sheet Anlagenverzeichnis
A1: ="Kalkulation "&TEXT(Kalkulationsblatt!E23,"")&" "&TEXT(Kalkulationsblatt!C4,"")&" für den Zeitraum von "&TEXT(Kalkulationsblatt!B21,"TT. MMMM JJJJ")&" bis zum "&TEXT(Kalkulationsblatt!E21,"TT. MMMM JJJJ")&"" -> Kalkulation für den Zeitraum von 00. Januar 1900 bis zum 00. Januar 1900
A2: Anlagenverzeichnis für bewegliche Anlagegüter gemäß Position 32 des Kalkulationsblattes
A5: Bezeichnung | B5: Anzahl | C5: Anschaffungskosten | D5: Summe Anlagegut | E5: Abschrei-bungs-zeitraum | F5: Abschreibungswert pro Jahr
D8: =IF(B8>0,(C8*B8),"") | F8: =IF(E8="","",D8/E8)
D9: =IF(B9>0,(C9*B9),"") | F9: =IF(E9="","",D9/E9)
D10: =IF(B10>0,(C10*B10),"") | F10: =IF(E10="","",D10/E10)
D11: =IF(B11>0,(C11*B11),"") | F11: =IF(E11="","",D11/E11)
D12: =IF(B12>0,(C12*B12),"") | F12: =IF(E12="","",D12/E12)
D13: =IF(B13>0,(C13*B13),"") | F13: =IF(E13="","",D13/E13)
D14: =IF(B14>0,(C14*B14),"") | F14: =IF(E14="","",D14/E14)
D15: =IF(B15>0,(C15*B15),"") | F15: =IF(E15="","",D15/E15)
D16: =IF(B16>0,(C16*B16),"") | F16: =IF(E16="","",D16/E16)
D17: =IF(B17>0,(C17*B17),"") | F17: =IF(E17="","",D17/E17)
D18: =IF(B18>0,(C18*B18),"") | F18: =IF(E18="","",D18/E18)
D19: =IF(B19>0,(C19*B19),"") | F19: =IF(E19="","",D19/E19)
... D22: =IF(B22>0,(C22*B22),"") | F22: =IF(E22="","",D22/E22)
A23: Zugang | D23: =SUM(D8:D22) -> 0 | F23: =SUM(F8:F22) -> 0
A24: Bestand
A25: Summe | D25: =D23+D24 -> 0 | F25: =F23+F24 -> 0
